BEGIN:VCALENDAR
VERSION:2.0
PRODID:icalendar-ruby
CALSCALE:GREGORIAN
BEGIN:VEVENT
DTSTAMP:20260422T082601Z
UID:736446ba-80d9-49f6-bac3-869deae5888d
DTSTART;VALUE=DATE:20210729
DESCRIPTION:Property ID# 513425\, Locatoin: Harcourts\, 1 Rimu Street\, Eas
 tbourne\, Time: 12:00PM
SUMMARY:Auction for 
END:VEVENT
END:VCALENDAR
