BEGIN:VCALENDAR
VERSION:2.0
PRODID:icalendar-ruby
CALSCALE:GREGORIAN
BEGIN:VEVENT
DTSTAMP:20210122T055634Z
UID:0dea3319-096e-41ee-ac36-bc1157e16fe2
DTSTART;TZID=Pacific/Auckland:20210124T110000
DTEND;TZID=Pacific/Auckland:20210124T113000
DESCRIPTION:Property ID# 499633
SUMMARY:Openhome for 111 Allington Road
END:VEVENT
END:VCALENDAR
