BEGIN:VCALENDAR
VERSION:2.0
PRODID:icalendar-ruby
CALSCALE:GREGORIAN
BEGIN:VEVENT
DTSTAMP:20210122T054458Z
UID:6e61a35d-b036-4c91-b982-a7cdf17a4bf3
DTSTART;TZID=Pacific/Auckland:20210124T131500
DTEND;TZID=Pacific/Auckland:20210124T134500
DESCRIPTION:Property ID# 499958
SUMMARY:Openhome for 37 Mandel Mews
END:VEVENT
END:VCALENDAR
