BEGIN:VCALENDAR
VERSION:2.0
PRODID:icalendar-ruby
CALSCALE:GREGORIAN
BEGIN:VEVENT
DTSTAMP:20210122T054501Z
UID:5347f499-3ba7-4542-8074-2a0f0080d1fd
DTSTART;TZID=Pacific/Auckland:20210124T130000
DTEND;TZID=Pacific/Auckland:20210124T133000
DESCRIPTION:Property ID# 499396
SUMMARY:Openhome for 7/95 Epuni Street
END:VEVENT
END:VCALENDAR
