BEGIN:VCALENDAR
VERSION:2.0
PRODID:icalendar-ruby
CALSCALE:GREGORIAN
BEGIN:VEVENT
DTSTAMP:20210122T055607Z
UID:c1468532-e4ba-4411-92bb-b3e58a4c3929
DTSTART;TZID=Pacific/Auckland:20210124T123000
DTEND;TZID=Pacific/Auckland:20210124T130000
DESCRIPTION:Property ID# 498432
SUMMARY:Openhome for 8/569 High Street
END:VEVENT
END:VCALENDAR
