BEGIN:VCALENDAR
VERSION:2.0
PRODID:icalendar-ruby
CALSCALE:GREGORIAN
BEGIN:VEVENT
DTSTAMP:20210122T054442Z
UID:3cb62342-08c2-4d7b-b1a6-cb7910035dcd
DTSTART;TZID=Pacific/Auckland:20210123T123000
DTEND;TZID=Pacific/Auckland:20210123T130000
DESCRIPTION:Property ID# 500298
SUMMARY:Openhome for 4/544 High Street
END:VEVENT
END:VCALENDAR
