BEGIN:VCALENDAR
VERSION:2.0
PRODID:icalendar-ruby
CALSCALE:GREGORIAN
BEGIN:VEVENT
DTSTAMP:20210122T054456Z
UID:bf3eddd3-55ad-4b64-8ed7-c59ec56b3f72
DTSTART;TZID=Pacific/Auckland:20210123T120000
DTEND;TZID=Pacific/Auckland:20210123T123000
DESCRIPTION:Property ID# 500026
SUMMARY:Openhome for 1/34 Rossiter Avenue
END:VEVENT
END:VCALENDAR
