BEGIN:VCALENDAR
VERSION:2.0
PRODID:icalendar-ruby
CALSCALE:GREGORIAN
BEGIN:VEVENT
DTSTAMP:20210122T054446Z
UID:695db728-371e-400d-b2f7-e3b873765089
DTSTART;TZID=Pacific/Auckland:20210124T140000
DTEND;TZID=Pacific/Auckland:20210124T143000
DESCRIPTION:Property ID# 500182
SUMMARY:Openhome for 1/20 Wainui Road
END:VEVENT
END:VCALENDAR
