BEGIN:VCALENDAR
VERSION:2.0
PRODID:icalendar-ruby
CALSCALE:GREGORIAN
BEGIN:VEVENT
DTSTAMP:20210122T055659Z
UID:93b8f374-e813-4003-9f9e-2239d398c0da
DTSTART;TZID=Pacific/Auckland:20210124T100000
DTEND;TZID=Pacific/Auckland:20210124T103000
DESCRIPTION:Property ID# 498530
SUMMARY:Openhome for 34 McBain Grove
END:VEVENT
END:VCALENDAR
