BEGIN:VCALENDAR
VERSION:2.0
PRODID:icalendar-ruby
CALSCALE:GREGORIAN
BEGIN:VEVENT
DTSTAMP:20210122T055604Z
UID:6bdd477d-63b1-4fe4-80d8-6e53cfa17bde
DTSTART;TZID=Pacific/Auckland:20210121T173000
DTEND;TZID=Pacific/Auckland:20210121T181500
DESCRIPTION:Property ID# 499455
SUMMARY:Openhome for 177 Tirohanga Road
END:VEVENT
END:VCALENDAR
