BEGIN:VCALENDAR
VERSION:2.0
PRODID:icalendar-ruby
CALSCALE:GREGORIAN
BEGIN:VEVENT
DTSTAMP:20210122T055631Z
UID:00126700-3857-4bf1-a9d0-67e90bd23fa6
DTSTART;TZID=Pacific/Auckland:20210124T130000
DTEND;TZID=Pacific/Auckland:20210124T133000
DESCRIPTION:Property ID# 499032
SUMMARY:Openhome for 25 Montgomery Avenue
END:VEVENT
END:VCALENDAR
