BEGIN:VCALENDAR
VERSION:2.0
PRODID:icalendar-ruby
CALSCALE:GREGORIAN
BEGIN:VEVENT
DTSTAMP:20210122T054449Z
UID:23fe222e-82b7-455e-9a45-0a47aaf51ec6
DTSTART;VALUE=DATE:20210203
DESCRIPTION:Property ID# 499554\, Locatoin: Tirohanga\, Lower Hutt\, Time: 
 12:00PM
SUMMARY:Auction for 5 Kekeno Grove
END:VEVENT
END:VCALENDAR
