BEGIN:VCALENDAR
VERSION:2.0
PRODID:icalendar-ruby
CALSCALE:GREGORIAN
BEGIN:VEVENT
DTSTAMP:20210122T054920Z
UID:3b016aa4-34dc-4bbc-aa48-ca7fe8c1a2be
DTSTART;VALUE=DATE:20210204
DESCRIPTION:Property ID# 499553\, Locatoin: Ray White 9/11 Kings Crescent\,
  Lower Hutt\, Time: 12:00PM
SUMMARY:Auction for 40a Cambridge tce
END:VEVENT
END:VCALENDAR
