BEGIN:VCALENDAR
VERSION:2.0
PRODID:icalendar-ruby
CALSCALE:GREGORIAN
BEGIN:VEVENT
DTSTAMP:20210122T055605Z
UID:f0e73b63-779b-4b42-bf2d-5a08759c74e1
DTSTART;VALUE=DATE:20210204
DESCRIPTION:Property ID# 499455\, Time: 12:30PM
SUMMARY:Auction for 177 Tirohanga Road
END:VEVENT
END:VCALENDAR
