BEGIN:VCALENDAR
VERSION:2.0
PRODID:icalendar-ruby
CALSCALE:GREGORIAN
BEGIN:VEVENT
DTSTAMP:20210122T055625Z
UID:40f650d2-46f6-458a-81d4-ad9f1e95b0b4
DTSTART;VALUE=DATE:20201217
DESCRIPTION:Property ID# 497505\, Time: 12:30PM
SUMMARY:Auction for 
END:VEVENT
END:VCALENDAR
