BEGIN:VCALENDAR
VERSION:2.0
PRODID:icalendar-ruby
CALSCALE:GREGORIAN
BEGIN:VEVENT
DTSTAMP:20210122T054914Z
UID:78e998e4-5f2b-4b73-883a-670560d325df
DTSTART;VALUE=DATE:20201212
DESCRIPTION:Property ID# 497064\, Time: 12:30PM
SUMMARY:Auction for 
END:VEVENT
END:VCALENDAR
