BEGIN:VCALENDAR
VERSION:2.0
PRODID:icalendar-ruby
CALSCALE:GREGORIAN
BEGIN:VEVENT
DTSTAMP:20210122T055612Z
UID:3e45eb82-8821-4c3d-b0b1-35111bd0b3c0
DTSTART;VALUE=DATE:20201214
DESCRIPTION:Property ID# 496427\, Time: 12:30PM
SUMMARY:Auction for 
END:VEVENT
END:VCALENDAR
