BEGIN:VCALENDAR
VERSION:2.0
PRODID:icalendar-ruby
CALSCALE:GREGORIAN
BEGIN:VEVENT
DTSTAMP:20210122T055653Z
UID:0638c49b-9147-448a-ab67-d7191a0302da
DTSTART;VALUE=DATE:20201203
DESCRIPTION:Property ID# 496259\, Time: 12:30PM
SUMMARY:Auction for 
END:VEVENT
END:VCALENDAR
