BEGIN:VCALENDAR
VERSION:2.0
PRODID:icalendar-ruby
CALSCALE:GREGORIAN
BEGIN:VEVENT
DTSTAMP:20210122T055613Z
UID:04a4dee1-a5c1-4965-b314-20150953367e
DTSTART;VALUE=DATE:20201210
DESCRIPTION:Property ID# 495809\, Time: 12:30PM
SUMMARY:Auction for 
END:VEVENT
END:VCALENDAR
