BEGIN:VCALENDAR
VERSION:2.0
PRODID:icalendar-ruby
CALSCALE:GREGORIAN
BEGIN:VEVENT
DTSTAMP:20210122T055614Z
UID:56f8dac6-f05c-4528-9fe8-eecf510f80db
DTSTART;VALUE=DATE:20201126
DESCRIPTION:Property ID# 494324\, Time: 12:30PM
SUMMARY:Auction for 
END:VEVENT
END:VCALENDAR
