BEGIN:VCALENDAR
VERSION:2.0
PRODID:icalendar-ruby
CALSCALE:GREGORIAN
BEGIN:VEVENT
DTSTAMP:20210122T054859Z
UID:3c1daeaa-a70f-4335-8a3e-48e12a93f0e8
DTSTART;VALUE=DATE:20201119
DESCRIPTION:Property ID# 493800\, Time: 12:30PM
SUMMARY:Auction for 
END:VEVENT
END:VCALENDAR
