BEGIN:VCALENDAR
VERSION:2.0
PRODID:icalendar-ruby
CALSCALE:GREGORIAN
BEGIN:VEVENT
DTSTAMP:20210122T054917Z
UID:bf5a611f-f5d8-4789-b932-d27a33d27fb3
DTSTART;VALUE=DATE:20201107
DESCRIPTION:Property ID# 493665\, Time: 11:00AM
SUMMARY:Auction for 
END:VEVENT
END:VCALENDAR
