BEGIN:VCALENDAR
VERSION:2.0
PRODID:icalendar-ruby
CALSCALE:GREGORIAN
BEGIN:VEVENT
DTSTAMP:20210122T054900Z
UID:47f52988-5b36-4227-a217-da15d8e1e05e
DTSTART;VALUE=DATE:20201022
DESCRIPTION:Property ID# 493196\, Time: 12:30PM
SUMMARY:Auction for 
END:VEVENT
END:VCALENDAR
