BEGIN:VCALENDAR
VERSION:2.0
PRODID:icalendar-ruby
CALSCALE:GREGORIAN
BEGIN:VEVENT
DTSTAMP:20210122T055617Z
UID:902630c7-15cd-46e6-8010-32639a640537
DTSTART;VALUE=DATE:20201112
DESCRIPTION:Property ID# 493193\, Time: 12:30PM
SUMMARY:Auction for 
END:VEVENT
END:VCALENDAR
