BEGIN:VCALENDAR
VERSION:2.0
PRODID:icalendar-ruby
CALSCALE:GREGORIAN
BEGIN:VEVENT
DTSTAMP:20210122T054918Z
UID:f4734271-81d0-4909-ac84-08371ae6efb1
DTSTART;VALUE=DATE:20201205
DESCRIPTION:Property ID# 492507\, Time: 12:30PM
SUMMARY:Auction for 
END:VEVENT
END:VCALENDAR
