BEGIN:VCALENDAR
VERSION:2.0
PRODID:icalendar-ruby
CALSCALE:GREGORIAN
BEGIN:VEVENT
DTSTAMP:20210122T055622Z
UID:54b72fd8-d2ca-44e7-9c7e-37fa845b3be9
DTSTART;VALUE=DATE:20201105
DESCRIPTION:Property ID# 492261\, Time: 12:30PM
SUMMARY:Auction for 
END:VEVENT
END:VCALENDAR
