BEGIN:VCALENDAR
VERSION:2.0
PRODID:icalendar-ruby
CALSCALE:GREGORIAN
BEGIN:VEVENT
DTSTAMP:20210122T054905Z
UID:416477cc-1d62-4318-95be-258c5873327c
DTSTART;VALUE=DATE:20201015
DESCRIPTION:Property ID# 491770\, Time: 12:30PM
SUMMARY:Auction for 
END:VEVENT
END:VCALENDAR
