BEGIN:VCALENDAR
VERSION:2.0
PRODID:icalendar-ruby
CALSCALE:GREGORIAN
BEGIN:VEVENT
DTSTAMP:20210122T054934Z
UID:7048cbee-5968-497a-a566-c038d47a1af5
DTSTART;VALUE=DATE:20201008
DESCRIPTION:Property ID# 490098\, Time: 12:30PM
SUMMARY:Auction for 
END:VEVENT
END:VCALENDAR
