BEGIN:VCALENDAR
VERSION:2.0
PRODID:icalendar-ruby
CALSCALE:GREGORIAN
BEGIN:VEVENT
DTSTAMP:20210122T055623Z
UID:72cecce7-3a70-47c8-888a-c95c0c359b0c
DTSTART;VALUE=DATE:20201001
DESCRIPTION:Property ID# 488928\, Time: 12:30PM
SUMMARY:Auction for 
END:VEVENT
END:VCALENDAR
