BEGIN:VCALENDAR
VERSION:2.0
PRODID:icalendar-ruby
CALSCALE:GREGORIAN
BEGIN:VEVENT
DTSTAMP:20210122T055700Z
UID:67ee0294-76cc-42b4-a76b-58d25b3c9359
DTSTART;VALUE=DATE:20200916
DESCRIPTION:Property ID# 488702\, Time: 5:30PM
SUMMARY:Auction for 
END:VEVENT
END:VCALENDAR
