BEGIN:VCALENDAR
VERSION:2.0
PRODID:icalendar-ruby
CALSCALE:GREGORIAN
BEGIN:VEVENT
DTSTAMP:20210122T054907Z
UID:37472210-8784-43c2-a73f-7469f099693c
DTSTART;VALUE=DATE:20200827
DESCRIPTION:Property ID# 486958\, Time: 12:30PM
SUMMARY:Auction for 
END:VEVENT
END:VCALENDAR
