BEGIN:VCALENDAR
VERSION:2.0
PRODID:icalendar-ruby
CALSCALE:GREGORIAN
BEGIN:VEVENT
DTSTAMP:20210122T054923Z
UID:9cb8c2be-9be4-4836-91e1-03b49298d666
DTSTART;VALUE=DATE:20200129
DESCRIPTION:Property ID# 470620\, Time: 12:00PM
SUMMARY:Auction for 
END:VEVENT
END:VCALENDAR
