BEGIN:VCALENDAR
VERSION:2.0
PRODID:icalendar-ruby
CALSCALE:GREGORIAN
BEGIN:VEVENT
DTSTAMP:20210122T054911Z
UID:bd89a4eb-a371-4aa1-9f7b-84585daa2475
DTSTART;VALUE=DATE:20191114
DESCRIPTION:Property ID# 465783\, Time: 12:30PM
SUMMARY:Auction for 
END:VEVENT
END:VCALENDAR
