BEGIN:VCALENDAR
VERSION:2.0
PRODID:icalendar-ruby
CALSCALE:GREGORIAN
BEGIN:VEVENT
DTSTAMP:20210122T055702Z
UID:7fe551f5-f495-4550-bf09-e86d459f9eb6
DTSTART;VALUE=DATE:20191105
DESCRIPTION:Property ID# 464224\, Time: 4:30PM
SUMMARY:Auction for 
END:VEVENT
END:VCALENDAR
