BEGIN:VCALENDAR
VERSION:2.0
PRODID:icalendar-ruby
CALSCALE:GREGORIAN
BEGIN:VEVENT
DTSTAMP:20210122T055645Z
UID:6c3b8355-822f-4eac-8e83-fb8a61bd5aa0
DTSTART;VALUE=DATE:20190823
DESCRIPTION:Property ID# 458485\, Time: 12:00PM
SUMMARY:Auction for 
END:VEVENT
END:VCALENDAR
